BEGIN:VCALENDAR
VERSION:2.0
PRODID:-//pretix//V.S.E._Scala_Tickets//
BEGIN:VTIMEZONE
TZID:Europe/Amsterdam
BEGIN:STANDARD
DTSTART:20001029T040000
RRULE:FREQ=YEARLY;BYDAY=-1SU;BYMONTH=10
TZNAME:CET
TZOFFSETFROM:+0200
TZOFFSETTO:+0100
END:STANDARD
BEGIN:DAYLIGHT
DTSTART:20000326T030000
RRULE:FREQ=YEARLY;BYDAY=-1SU;BYMONTH=3
TZNAME:CEST
TZOFFSETFROM:+0100
TZOFFSETTO:+0200
END:DAYLIGHT
END:VTIMEZONE
BEGIN:VEVENT
UID:pretix-doppio-Haversham-99@tickets.doppio.nl
DTSTART;TZID=Europe/Amsterdam:20260426T200000
DTEND;TZID=Europe/Amsterdam:20260426T223000
DESCRIPTION:Tickets: https://tickets.doppio.nl/Haversham/99/\nOrganisator: 
 ESTV Doppio
DTSTAMP:20260420T042551Z
LOCATION:De Lampendriessen 31\, 5612AH Eindhoven\, Luna gebouw\, TUe campus
SUMMARY:Moord op het landgoed Haversham
END:VEVENT
END:VCALENDAR
